Package: lemur Version: 1.9.0 Command: /home/biocbuild/bbs-3.23-bioc/R/bin/R CMD build --keep-empty-dirs --no-resave-data lemur StartedAt: 2025-11-18 19:11:51 -0500 (Tue, 18 Nov 2025) EndedAt: 2025-11-18 19:13:24 -0500 (Tue, 18 Nov 2025) EllapsedTime: 93.1 seconds RetCode: 0 Status: OK PackageFile: lemur_1.9.0.tar.gz PackageFileSize: 2.417 MiB