Package: lemur Version: 1.9.0 Command: /Library/Frameworks/R.framework/Resources/bin/R CMD INSTALL lemur StartedAt: 2025-11-26 15:32:32 -0500 (Wed, 26 Nov 2025) EndedAt: 2025-11-26 15:33:21 -0500 (Wed, 26 Nov 2025) EllapsedTime: 48.7 seconds RetCode: 0 Status: OK