Package: lemur Version: 1.9.0 Command: /Library/Frameworks/R.framework/Resources/bin/R CMD build --keep-empty-dirs --no-resave-data lemur StartedAt: 2025-11-25 17:42:48 -0500 (Tue, 25 Nov 2025) EndedAt: 2025-11-25 17:44:29 -0500 (Tue, 25 Nov 2025) EllapsedTime: 101.7 seconds RetCode: 0 Status: OK PackageFile: lemur_1.9.0.tar.gz PackageFileSize: 2.645 MiB