Package: lemur Version: 1.9.0 Command: rm -rf lemur.buildbin-libdir && mkdir lemur.buildbin-libdir && /Users/biocbuild/BBS/utils/build-universal.sh lemur_1.9.0.tar.gz /Library/Frameworks/R.framework/Resources/bin/R lemur.buildbin-libdir StartedAt: 2025-11-26 01:52:36 -0500 (Wed, 26 Nov 2025) EndedAt: 2025-11-26 01:53:31 -0500 (Wed, 26 Nov 2025) EllapsedTime: 54.7 seconds RetCode: 0 Status: OK PackageFile: lemur_1.9.0.tgz PackageFileSize: 2.956 MiB