Package: lemur Version: 1.9.0 Command: /Library/Frameworks/R.framework/Resources/bin/R CMD INSTALL lemur StartedAt: 2025-11-18 15:26:23 -0500 (Tue, 18 Nov 2025) EndedAt: 2025-11-18 15:26:37 -0500 (Tue, 18 Nov 2025) EllapsedTime: 14.2 seconds RetCode: 0 Status: OK