Package: lemur Version: 1.9.0 Command: /Library/Frameworks/R.framework/Resources/bin/R CMD build --keep-empty-dirs --no-resave-data lemur StartedAt: 2025-11-17 17:33:56 -0500 (Mon, 17 Nov 2025) EndedAt: 2025-11-17 17:34:34 -0500 (Mon, 17 Nov 2025) EllapsedTime: 37.4 seconds RetCode: 0 Status: OK PackageFile: lemur_1.9.0.tar.gz PackageFileSize: 2.646 MiB