Package: lemur Version: 1.9.0 Command: rm -rf lemur.buildbin-libdir && mkdir lemur.buildbin-libdir && /Users/biocbuild/BBS/utils/build-universal.sh lemur_1.9.0.tar.gz /Library/Frameworks/R.framework/Resources/bin/R lemur.buildbin-libdir StartedAt: 2025-11-18 23:46:08 -0500 (Tue, 18 Nov 2025) EndedAt: 2025-11-18 23:46:26 -0500 (Tue, 18 Nov 2025) EllapsedTime: 17.4 seconds RetCode: 0 Status: OK PackageFile: lemur_1.9.0.tgz PackageFileSize: 2.955 MiB