Package: lefser Version: 1.21.7 Command: /home/biocbuild/bbs-3.23-bioc/R/bin/R CMD INSTALL lefser StartedAt: 2025-11-20 15:56:07 -0500 (Thu, 20 Nov 2025) EndedAt: 2025-11-20 15:56:33 -0500 (Thu, 20 Nov 2025) EllapsedTime: 26.4 seconds RetCode: 0 Status: OK