Package: lefser Version: 1.21.7 Command: /home/biocbuild/bbs-3.23-bioc/R/bin/R CMD build --keep-empty-dirs --no-resave-data lefser StartedAt: 2025-11-20 18:20:05 -0500 (Thu, 20 Nov 2025) EndedAt: 2025-11-20 18:20:55 -0500 (Thu, 20 Nov 2025) EllapsedTime: 50.1 seconds RetCode: 0 Status: OK PackageFile: lefser_1.21.7.tar.gz PackageFileSize: 818.2 KiB