Package: lefser Version: 1.21.7 Command: /Library/Frameworks/R.framework/Resources/bin/R CMD INSTALL lefser StartedAt: 2025-11-20 15:52:40 -0500 (Thu, 20 Nov 2025) EndedAt: 2025-11-20 15:53:19 -0500 (Thu, 20 Nov 2025) EllapsedTime: 38.2 seconds RetCode: 0 Status: OK