Package: lefser Version: 1.21.7 Command: /Library/Frameworks/R.framework/Resources/bin/R CMD build --keep-empty-dirs --no-resave-data lefser StartedAt: 2025-11-20 17:31:07 -0500 (Thu, 20 Nov 2025) EndedAt: 2025-11-20 17:32:06 -0500 (Thu, 20 Nov 2025) EllapsedTime: 59.4 seconds RetCode: 0 Status: OK PackageFile: lefser_1.21.7.tar.gz PackageFileSize: 859 KiB