Package: lefser Version: 1.21.7 Command: rm -rf lefser.buildbin-libdir && mkdir lefser.buildbin-libdir && /Users/biocbuild/BBS/utils/build-universal.sh lefser_1.21.7.tar.gz /Library/Frameworks/R.framework/Resources/bin/R lefser.buildbin-libdir StartedAt: 2025-11-21 01:40:24 -0500 (Fri, 21 Nov 2025) EndedAt: 2025-11-21 01:41:06 -0500 (Fri, 21 Nov 2025) EllapsedTime: 41.9 seconds RetCode: 0 Status: OK PackageFile: lefser_1.21.7.tgz PackageFileSize: 914.9 KiB