Package: lefser Version: 1.19.2 Command: /Library/Frameworks/R.framework/Resources/bin/R CMD INSTALL lefser StartedAt: 2025-10-28 15:30:47 -0400 (Tue, 28 Oct 2025) EndedAt: 2025-10-28 15:30:58 -0400 (Tue, 28 Oct 2025) EllapsedTime: 11.4 seconds RetCode: 0 Status: OK