Package: lefser Version: 1.19.2 Command: /Library/Frameworks/R.framework/Resources/bin/R CMD build --keep-empty-dirs --no-resave-data lefser StartedAt: 2025-10-28 16:50:11 -0400 (Tue, 28 Oct 2025) EndedAt: 2025-10-28 16:50:33 -0400 (Tue, 28 Oct 2025) EllapsedTime: 21.2 seconds RetCode: 0 Status: OK PackageFile: lefser_1.19.2.tar.gz PackageFileSize: 613.6 KiB