Package: lefser Version: 1.19.2 Command: rm -rf lefser.buildbin-libdir && mkdir lefser.buildbin-libdir && /Users/biocbuild/BBS/utils/build-universal.sh lefser_1.19.2.tar.gz /Library/Frameworks/R.framework/Resources/bin/R lefser.buildbin-libdir StartedAt: 2025-10-28 23:04:28 -0400 (Tue, 28 Oct 2025) EndedAt: 2025-10-28 23:04:40 -0400 (Tue, 28 Oct 2025) EllapsedTime: 12.3 seconds RetCode: 0 Status: OK PackageFile: lefser_1.19.2.tgz PackageFileSize: 669.1 KiB