Package: leapR Version: 0.99.5 Command: /home/biocbuild/bbs-3.23-bioc/R/bin/R CMD INSTALL leapR StartedAt: 2025-11-20 15:16:40 -0500 (Thu, 20 Nov 2025) EndedAt: 2025-11-20 15:17:02 -0500 (Thu, 20 Nov 2025) EllapsedTime: 21.5 seconds RetCode: 0 Status: OK