Package: leapR Version: 0.99.5 Command: /Library/Frameworks/R.framework/Resources/bin/R CMD INSTALL leapR StartedAt: 2025-11-20 15:23:13 -0500 (Thu, 20 Nov 2025) EndedAt: 2025-11-20 15:23:46 -0500 (Thu, 20 Nov 2025) EllapsedTime: 32.8 seconds RetCode: 0 Status: OK