Package: leapR Version: 0.99.5 Command: /Library/Frameworks/R.framework/Resources/bin/R CMD build --keep-empty-dirs --no-resave-data leapR StartedAt: 2025-11-20 16:46:35 -0500 (Thu, 20 Nov 2025) EndedAt: 2025-11-20 16:51:09 -0500 (Thu, 20 Nov 2025) EllapsedTime: 274.1 seconds RetCode: 0 Status: OK PackageFile: leapR_0.99.5.tar.gz PackageFileSize: 2.483 MiB