Package: leapR Version: 0.99.5 Maintainer: Sara Gosline MaintainerEmail: sara.gosline at pnnl.gov git_url: https://git.bioconductor.org/packages/leapR git_branch: devel git_last_commit: d721db9 git_last_commit_date: 2025-11-05 14:45:33 -0500 (Wed, 05 Nov 2025)