Package: lapmix Version: 1.75.0 Command: /home/biocbuild/bbs-3.23-bioc/R/bin/R CMD INSTALL lapmix StartedAt: 2025-10-22 21:05:05 -0000 (Wed, 22 Oct 2025) EndedAt: 2025-10-22 21:05:06 -0000 (Wed, 22 Oct 2025) EllapsedTime: 1.1 seconds RetCode: 1 Status: ERROR