Package: lapmix Version: 1.75.0 Command: /home/biocbuild/bbs-3.23-bioc/R/bin/R CMD build --keep-empty-dirs --no-resave-data lapmix StartedAt: 2025-10-22 23:26:33 -0000 (Wed, 22 Oct 2025) EndedAt: 2025-10-22 23:26:34 -0000 (Wed, 22 Oct 2025) EllapsedTime: 1.0 seconds RetCode: 1 Status: ERROR PackageFile: None PackageFileSize: NA