Package: lapmix Version: 1.75.0 Command: /Library/Frameworks/R.framework/Resources/bin/R CMD INSTALL lapmix StartedAt: 2025-10-06 15:13:24 -0400 (Mon, 06 Oct 2025) EndedAt: 2025-10-06 15:13:27 -0400 (Mon, 06 Oct 2025) EllapsedTime: 3.6 seconds RetCode: 1 Status: ERROR