Package: lapmix Version: 1.75.0 Command: /Library/Frameworks/R.framework/Resources/bin/R CMD build --keep-empty-dirs --no-resave-data lapmix StartedAt: 2025-10-06 17:36:30 -0400 (Mon, 06 Oct 2025) EndedAt: 2025-10-06 17:36:32 -0400 (Mon, 06 Oct 2025) EllapsedTime: 2.3 seconds RetCode: 1 Status: ERROR PackageFile: None PackageFileSize: NA