Package: koinar Version: 1.3.0 Command: /home/biocbuild/bbs-3.22-bioc/R/bin/R CMD INSTALL koinar StartedAt: 2025-10-03 15:03:10 -0400 (Fri, 03 Oct 2025) EndedAt: 2025-10-03 15:03:26 -0400 (Fri, 03 Oct 2025) EllapsedTime: 15.1 seconds RetCode: 0 Status: OK