Package: koinar Version: 1.3.0 Command: /home/biocbuild/bbs-3.22-bioc/R/bin/R CMD build --keep-empty-dirs --no-resave-data --md5 koinar StartedAt: 2025-10-03 18:18:58 -0400 (Fri, 03 Oct 2025) EndedAt: 2025-10-03 18:19:28 -0400 (Fri, 03 Oct 2025) EllapsedTime: 30.1 seconds RetCode: 0 Status: OK PackageFile: koinar_1.3.0.tar.gz PackageFileSize: 1.357 MiB