Package: knowYourCG Version: 1.7.0 Command: /home/biocbuild/bbs-3.23-bioc/R/bin/R CMD build --keep-empty-dirs --no-resave-data knowYourCG StartedAt: 2025-11-06 18:14:37 -0500 (Thu, 06 Nov 2025) EndedAt: 2025-11-06 18:16:35 -0500 (Thu, 06 Nov 2025) EllapsedTime: 117.2 seconds RetCode: 0 Status: OK PackageFile: knowYourCG_1.7.0.tar.gz PackageFileSize: 14.57 MiB