Package: knowYourCG Version: 1.5.2 Command: /Library/Frameworks/R.framework/Resources/bin/R CMD INSTALL knowYourCG StartedAt: 2025-10-14 15:11:12 -0400 (Tue, 14 Oct 2025) EndedAt: 2025-10-14 15:11:21 -0400 (Tue, 14 Oct 2025) EllapsedTime: 8.5 seconds RetCode: 0 Status: OK