Package: knowYourCG Version: 1.5.2 Command: /Library/Frameworks/R.framework/Resources/bin/R CMD build --keep-empty-dirs --no-resave-data knowYourCG StartedAt: 2025-10-14 16:49:05 -0400 (Tue, 14 Oct 2025) EndedAt: 2025-10-14 16:50:05 -0400 (Tue, 14 Oct 2025) EllapsedTime: 59.6 seconds RetCode: 0 Status: OK PackageFile: knowYourCG_1.5.2.tar.gz PackageFileSize: 14.58 MiB