Package: kmcut Version: 1.5.0 Command: /home/biocbuild/bbs-3.23-bioc/R/bin/R CMD build --keep-empty-dirs --no-resave-data kmcut StartedAt: 2025-11-20 18:19:06 -0500 (Thu, 20 Nov 2025) EndedAt: 2025-11-20 18:19:44 -0500 (Thu, 20 Nov 2025) EllapsedTime: 38.1 seconds RetCode: 0 Status: OK PackageFile: kmcut_1.5.0.tar.gz PackageFileSize: 1.165 MiB