Package: kmcut Version: 1.3.0 Command: /Library/Frameworks/R.framework/Resources/bin/R CMD INSTALL kmcut StartedAt: 2025-10-06 15:23:21 -0400 (Mon, 06 Oct 2025) EndedAt: 2025-10-06 15:23:50 -0400 (Mon, 06 Oct 2025) EllapsedTime: 29.5 seconds RetCode: 0 Status: OK