Package: kmcut Version: 1.3.0 Command: /Library/Frameworks/R.framework/Resources/bin/R CMD build --keep-empty-dirs --no-resave-data kmcut StartedAt: 2025-10-05 17:34:47 -0400 (Sun, 05 Oct 2025) EndedAt: 2025-10-05 17:35:45 -0400 (Sun, 05 Oct 2025) EllapsedTime: 58.7 seconds RetCode: 0 Status: OK PackageFile: kmcut_1.3.0.tar.gz PackageFileSize: 1.259 MiB