Package: kmcut Version: 1.3.0 Maintainer: Igor Kuznetsov MaintainerEmail: ibkalb at gmail.com git_url: https://git.bioconductor.org/packages/kmcut git_branch: devel git_last_commit: f82f873 git_last_commit_date: 2025-04-15 13:38:50 -0400 (Tue, 15 Apr 2025)