Package: keggorthology Version: 2.61.0 Command: /home/biocbuild/bbs-3.22-bioc/R/bin/R CMD INSTALL keggorthology StartedAt: 2025-10-17 15:25:03 -0400 (Fri, 17 Oct 2025) EndedAt: 2025-10-17 15:25:15 -0400 (Fri, 17 Oct 2025) EllapsedTime: 12.8 seconds RetCode: 0 Status: OK