Package: keggorthology Version: 2.61.0 Command: /home/biocbuild/bbs-3.22-bioc/R/bin/R CMD build --keep-empty-dirs --no-resave-data --md5 keggorthology StartedAt: 2025-10-16 19:20:39 -0400 (Thu, 16 Oct 2025) EndedAt: 2025-10-16 19:21:00 -0400 (Thu, 16 Oct 2025) EllapsedTime: 21.0 seconds RetCode: 0 Status: OK PackageFile: keggorthology_2.61.0.tar.gz PackageFileSize: 789.2 KiB