Package: kebabs Version: 1.43.1 Command: /home/biocbuild/R/R/bin/R CMD INSTALL kebabs StartedAt: 2025-10-09 21:08:28 -0000 (Thu, 09 Oct 2025) EndedAt: 2025-10-09 21:10:48 -0000 (Thu, 09 Oct 2025) EllapsedTime: 140.0 seconds RetCode: 0 Status: OK