Package: kebabs Version: 1.43.1 Command: /home/biocbuild/R/R/bin/R CMD build --keep-empty-dirs --no-resave-data kebabs StartedAt: 2025-10-14 01:15:02 -0000 (Tue, 14 Oct 2025) EndedAt: 2025-10-14 01:20:25 -0000 (Tue, 14 Oct 2025) EllapsedTime: 323.1 seconds RetCode: 0 Status: OK PackageFile: kebabs_1.43.1.tar.gz PackageFileSize: 2.25 MiB