Package: kebabs Version: 1.43.0 Command: chmod a+r kebabs -R && F:\biocbuild\bbs-3.22-bioc\R\bin\R.exe CMD build --keep-empty-dirs --no-resave-data kebabs StartedAt: 2025-08-14 21:04:22 -0400 (Thu, 14 Aug 2025) EndedAt: 2025-08-14 21:10:30 -0400 (Thu, 14 Aug 2025) EllapsedTime: 367.7 seconds RetCode: 0 Status: OK PackageFile: kebabs_1.43.0.tar.gz PackageFileSize: 2.178 MiB