Package: kebabs Version: 1.43.0 Command: rm -rf kebabs.buildbin-libdir && mkdir kebabs.buildbin-libdir && F:\biocbuild\bbs-3.22-bioc\R\bin\R.exe CMD INSTALL --build --library=kebabs.buildbin-libdir kebabs_1.43.0.tar.gz StartedAt: 2025-08-15 10:33:39 -0400 (Fri, 15 Aug 2025) EndedAt: 2025-08-15 10:37:11 -0400 (Fri, 15 Aug 2025) EllapsedTime: 211.9 seconds RetCode: 0 Status: OK PackageFile: kebabs_1.43.0.zip PackageFileSize: 3.928 MiB