Package: kebabs Version: 1.43.1 Command: /home/biocbuild/bbs-3.22-bioc/R/bin/R CMD check --install=check:kebabs.install-out.txt --library=/home/biocbuild/bbs-3.22-bioc/R/site-library --timings kebabs_1.43.1.tar.gz StartedAt: 2025-10-10 01:10:41 -0400 (Fri, 10 Oct 2025) EndedAt: 2025-10-10 01:16:28 -0400 (Fri, 10 Oct 2025) EllapsedTime: 347.5 seconds RetCode: 0 Status: OK CheckDir: kebabs.Rcheck Warnings: 0