Package: kebabs Version: 1.45.0 Command: /home/biocbuild/bbs-3.23-bioc/R/bin/R CMD check --install=check:kebabs.install-out.txt --library=/home/biocbuild/bbs-3.23-bioc/R/site-library --timings kebabs_1.45.0.tar.gz StartedAt: 2025-11-18 00:52:40 -0500 (Tue, 18 Nov 2025) EndedAt: 2025-11-18 00:58:13 -0500 (Tue, 18 Nov 2025) EllapsedTime: 333.5 seconds RetCode: 0 Status: OK CheckDir: kebabs.Rcheck Warnings: 0