Package: kebabs Version: 1.45.0 Command: /home/biocbuild/bbs-3.23-bioc/R/bin/R CMD build --keep-empty-dirs --no-resave-data kebabs StartedAt: 2025-11-05 18:20:50 -0500 (Wed, 05 Nov 2025) EndedAt: 2025-11-05 18:24:56 -0500 (Wed, 05 Nov 2025) EllapsedTime: 245.3 seconds RetCode: 0 Status: OK PackageFile: kebabs_1.45.0.tar.gz PackageFileSize: 2.259 MiB