Package: katdetectr Version: 1.11.1 Command: /home/biocbuild/R/R/bin/R CMD INSTALL katdetectr StartedAt: 2025-10-13 21:27:34 -0000 (Mon, 13 Oct 2025) EndedAt: 2025-10-13 21:28:22 -0000 (Mon, 13 Oct 2025) EllapsedTime: 47.3 seconds RetCode: 0 Status: OK