Package: katdetectr Version: 1.11.1 Command: /home/biocbuild/R/R/bin/R CMD build --keep-empty-dirs --no-resave-data katdetectr StartedAt: 2025-10-14 01:14:53 -0000 (Tue, 14 Oct 2025) EndedAt: 2025-10-14 01:16:38 -0000 (Tue, 14 Oct 2025) EllapsedTime: 105.0 seconds RetCode: 0 Status: OK PackageFile: katdetectr_1.11.1.tar.gz PackageFileSize: 766.5 KiB