Package: katdetectr Version: 1.11.1 Command: rm -rf katdetectr.buildbin-libdir && mkdir katdetectr.buildbin-libdir && F:\biocbuild\bbs-3.22-bioc\R\bin\R.exe CMD INSTALL --build --library=katdetectr.buildbin-libdir katdetectr_1.11.1.tar.gz StartedAt: 2025-08-15 10:33:27 -0400 (Fri, 15 Aug 2025) EndedAt: 2025-08-15 10:35:23 -0400 (Fri, 15 Aug 2025) EllapsedTime: 115.9 seconds RetCode: 0 Status: OK PackageFile: katdetectr_1.11.1.zip PackageFileSize: 940.5 KiB