Package: katdetectr Version: 1.13.0 Command: /home/biocbuild/bbs-3.23-bioc/R/bin/R CMD INSTALL katdetectr StartedAt: 2025-11-04 15:41:07 -0500 (Tue, 04 Nov 2025) EndedAt: 2025-11-04 15:41:46 -0500 (Tue, 04 Nov 2025) EllapsedTime: 39.2 seconds RetCode: 0 Status: OK