Package: karyoploteR Version: 1.37.0 Command: /home/biocbuild/bbs-3.23-bioc/R/bin/R CMD INSTALL karyoploteR StartedAt: 2025-11-16 15:44:35 -0500 (Sun, 16 Nov 2025) EndedAt: 2025-11-16 15:45:27 -0500 (Sun, 16 Nov 2025) EllapsedTime: 52.1 seconds RetCode: 0 Status: OK