Package: karyoploteR Version: 1.37.0 Command: /home/biocbuild/bbs-3.23-bioc/R/bin/R CMD build --keep-empty-dirs --no-resave-data karyoploteR StartedAt: 2025-11-18 19:09:13 -0500 (Tue, 18 Nov 2025) EndedAt: 2025-11-18 19:10:42 -0500 (Tue, 18 Nov 2025) EllapsedTime: 89.1 seconds RetCode: 0 Status: OK PackageFile: karyoploteR_1.37.0.tar.gz PackageFileSize: 2.568 MiB