Package: karyoploteR Version: 1.37.0 Command: /Library/Frameworks/R.framework/Resources/bin/R CMD INSTALL karyoploteR StartedAt: 2025-11-18 15:41:49 -0500 (Tue, 18 Nov 2025) EndedAt: 2025-11-18 15:43:00 -0500 (Tue, 18 Nov 2025) EllapsedTime: 70.3 seconds RetCode: 0 Status: OK