Package: karyoploteR Version: 1.37.0 Command: /Library/Frameworks/R.framework/Resources/bin/R CMD build --keep-empty-dirs --no-resave-data karyoploteR StartedAt: 2025-11-19 17:30:01 -0500 (Wed, 19 Nov 2025) EndedAt: 2025-11-19 17:31:47 -0500 (Wed, 19 Nov 2025) EllapsedTime: 106.3 seconds RetCode: 0 Status: OK PackageFile: karyoploteR_1.37.0.tar.gz PackageFileSize: 2.593 MiB