Package: karyoploteR Version: 1.37.0 Command: rm -rf karyoploteR.buildbin-libdir && mkdir karyoploteR.buildbin-libdir && /Users/biocbuild/BBS/utils/build-universal.sh karyoploteR_1.37.0.tar.gz /Library/Frameworks/R.framework/Resources/bin/R karyoploteR.buildbin-libdir StartedAt: 2025-11-19 01:35:12 -0500 (Wed, 19 Nov 2025) EndedAt: 2025-11-19 01:36:31 -0500 (Wed, 19 Nov 2025) EllapsedTime: 78.9 seconds RetCode: 0 Status: OK PackageFile: karyoploteR_1.37.0.tgz PackageFileSize: 2.479 MiB